Workbook

Sheet PL KL 
A1: Phụ lục 01
A2: TỔNG HỢP KHỐI LƯỢNG THIỆT HẠI VÀ ĐẢM BẢO GIAO THÔNG (TỪ …. ĐẾN …..)
A3: (Kèm báo cáo số:…..)
A4: TT | B4: Hạng mục | C4: ĐV | D4: Đơn giá (đ) | E4: Khối lượng thiệt hại | I4: Khối lượng đã ĐBGT | L4: Ghi chú
E5: Từ ngày 14/10/2026 đến ngày 14/10/2026 | I5: Từ ngày 14/10/2026 đến ngày 14/10/2026
E6: Khối lượng (m3) | F6: Chiều dài sạt lở, hư hỏng (md) | G6: Số vị trí | H6: Ước tính giá trị (trđ) | I6: Khối lượng | J6: Số vị trí | K6: Ước tính giá trị (trđ)
A7: 1 | B7: QL.37 | E7: =+E8+E9+E10 | F7: =+SUM(F8:F27) | G7: =+G8+G9+G10 | H7: =+SUM(H8:H26)
A8: - | B8: Sụt dương đất | C8: m3 | D8: 150000 | E8: 0 | F8: 0 | G8: 0 | H8: =D8*E8 | I8: 0 | J8: 0 | K8: =D8*I8
A9: - | B9: Sụt dương đá | C9: m3 | D9: 250000 | E9: 0 | F9: 0 | G9: 0 | H9: =D9*E9 | I9: 0 | J9: 0 | K9: =D9*I9
A10: - | B10: Sa bồi | C10: m3 | D10: 150000 | E10: 0 | F10: 0 | G10: 0 | H10: =D10*E10 | I10: 0 | J10: 0 | K10: =D10*I10
A11: - | B11: Cây đổ | C11: Cây | D11: 500000 | E11: 0 | F11: 0 | G11: 0 | H11: =D11*E11 | I11: 0 | J11: 0 | K11: =D11*I11
A12: - | B12: Sụt âm | C12: md | D12: 10000000 | E12: 0 | F12: 0 | G12: 0 | H12: =D12*E12 | I12: 0 | J12: 0 | K12: =D12*I12
A13: + | B13: Kè rọ thép | C13: rọ | E13: 0 | F13: 0 | G13: 0 | H13: =D13*E13 | I13: 0 | J13: 0 | K13: =D13*I13
A14: + | B14: Bê tông xi măng | C14: m | E14: 0 | F14: 0 | G14: 0 | H14: =D14*E14 | I14: 0 | J14: 0 | K14: =D14*I14
A15: - | B15: Xói lề đường | C15: m | D15: 250000 | E15: 0 | F15: 0 | G15: 0 | H15: =D15*E15 | I15: 0 | J15: 0 | K15: =D15*I15
A16: - | B16: Hư hỏng mặt đường | C16: m | E16: 0 | F16: 0 | G16: 0 | H16: =D16*E16 | I16: 0 | J16: 0 | K16: =D16*I16
A17: - | B17: Lún, gẫy nền mặt đường | C17: m | E17: 0 | F17: 0 | G17: 0 | H17: =D17*E17 | I17: 0 | J17: 0 | K17: =D17*I17
A18: - | B18: Rãnh dọc bị hư hỏng | C18: m | D18: 500000 | E18: 0 | F18: 0 | G18: 0 | H18: =D18*E18 | I18: 0 | J18: 0 | K18: =D18*I18
A19: - | B19: Lề đường bị hư hỏng | C19: m | D19: 500000 | E19: 0 | F19: 0 | G19: 0 | H19: =D19*E19 | I19: 0 | J19: 0 | K19: =D19*I19
A20: - | B20: Ngập nước | C20: m | E20: 0 | F20: 0 | G20: 0 | H20: =D20*E20 | I20: 0 | J20: 0 | K20: =D20*I20
A21: - | B21: Biển báo | C21: cái | E21: 0 | F21: 0 | G21: 0 | H21: =D21*E21 | I21: 0 | J21: 0 | K21: =D21*I21
A22: - | B22: Cọc tiêu, cột H, cột KM | C22: cột | E22: 0 | F22: 0 | G22: 0 | H22: =D22*E22 | I22: 0 | J22: 0 | K22: =D22*I22
A23: - | B23: Hộ lan | C23: m | E23: 0 | F23: 0 | G23: 0 | H23: =D23*E23 | I23: 0 | J23: 0 | K23: =D23*I23
A24: - | B24: Cống | C24: cái | E24: 0 | F24: 0 | G24: 0 | H24: =D24*E24 | I24: 0 | J24: 0 | K24: =D24*I24
A25: - | B25: Cầu | C25: cái | E25: 0 | F25: 0 | G25: 0 | H25: =D25*E25 | I25: 0 | J25: 0 | K25: =D25*I25
A26: - | B26: Công trình khác | C26: cái | D26: 200000000 | E26: 0 | F26: 0 | G26: 0 | H26: =D26*E26 | I26: 0 | J26: 0 | K26: =D26*I26
A27: - | B27: Số vị trí tắc đường | C27: VT | E27: 0 | F27: 0 | G27: 0 | H27: =D27*E27 | I27: 0 | J27: 0 | K27: =D27*I27
A28: 2 | B28: QL.32B | E28: =+E29+E30+E31 | F28: =+SUM(F29:F47) | G28: =+G29+G30+G31 | H28: =+SUM(H29:H47)
A29: - | B29: Sụt dương đất | C29: m3 | D29: =+D8 | E29: 0 | F29: 0 | G29: 0 | H29: =D29*E29 | I29: 0 | J29: 0 | K29: =D29*I29
A30: - | B30: Sụt dương đá | C30: m3 | D30: =+D9 | E30: 0 | F30: 0 | G30: 0 | H30: =D30*E30 | I30: 0 | J30: 0 | K30: =D30*I30
A31: - | B31: Sa bồi | C31: m3 | D31: =+D10 | E31: 0 | F31: 0 | G31: 0 | H31: =D31*E31 | I31: 0 | J31: 0 | K31: =D31*I31
A32: - | B32: Cây đổ | C32: Cây | D32: =+D11 | E32: 0 | F32: 0 | G32: 0 | H32: =D32*E32 | I32: 0 | J32: 0 | K32: =D32*I32
A33: - | B33: Sụt âm | C33: m | D33: =+D12 | E33: 0 | F33: 0 | G33: 0 | H33: =D33*E33 | I33: 0 | J33: 0 | K33: =D33*I33
A34: + | B34: Kè rọ thép | C34: rọ | D34: =+D13 | E34: 0 | F34: 0 | G34: 0 | H34: =D34*E34 | I34: 0 | J34: 0 | K34: =D34*I34
A35: + | B35: Bê tông xi măng | C35: m | D35: =+D14 | E35: 0 | F35: 0 | G35: 0 | H35: =D35*E35 | I35: 0 | J35: 0 | K35: =D35*I35
A36: - | B36: Xói lề đường | C36: m3 | D36: 500000 | E36: 0 | F36: 0 | G36: 0 | H36: =D36*E36 | I36: 0 | J36: 0 | K36: =D36*I36
A37: - | B37: Hư hỏng mặt đường | C37: m2 | D37: =+D16 | E37: 0 | F37: 0 | G37: 0 | H37: =D37*E37 | I37: 0 | J37: 0 | K37: =D37*I37
A38: - | B38: Lún, gẫy nền mặt đường | C38: m2 | D38: =+D17 | E38: 0 | F38: 0 | G38: 0 | H38: =D38*E38 | I38: 0 | J38: 0 | K38: =D38*I38
A39: - | B39: Rãnh dọc bị hư hỏng | C39: m | D39: =+D18 | E39: 0 | F39: 0 | G39: 0 | H39: =D39*E39 | I39: 0 | J39: 0 | K39: =D39*I39
A40: - | B40: Ngập nước | C40: m | D40: =+D19 | E40: 0 | F40: 0 | G40: 0 | H40: =D40*E40 | I40: 0 | J40: 0 | K40: =D40*I40
A41: - | B41: Biển báo | C41: cái | D41: =+D20 | E41: 0 | F41: 0 | G41: 0 | H41: =D41*E41 | I41: 0 | J41: 0 | K41: =D41*I41
A42: - | B42: Cọc tiêu, cột H, cột KM | C42: cột | D42: =+D21 | E42: 0 | F42: 0 | G42: 0 | H42: =D42*E42 | I42: 0 | J42: 0 | K42: =D42*I42
A43: - | B43: Hộ lan | C43: m | D43: =+D22 | E43: 0 | F43: 0 | G43: 0 | H43: =D43*E43 | I43: 0 | J43: 0 | K43: =D43*I43
A44: - | B44: Cống | C44: cái | D44: =+D23 | E44: 0 | F44: 0 | G44: 0 | H44: =D44*E44 | I44: 0 | J44: 0 | K44: =D44*I44
A45: - | B45: Cầu | C45: cái | D45: =+D24 | E45: 0 | F45: 0 | G45: 0 | H45: =D45*E45 | I45: 0 | J45: 0 | K45: =D45*I45
A46: - | B46: Công trình khác | C46: cái | D46: =+D25 | E46: 0 | F46: 0 | G46: 0 | H46: =D46*E46 | I46: 0 | J46: 0 | K46: =D46*I46
A47: - | B47: Số vị trí tắc đường | C47: VT | E47: 0 | F47: 0 | G47: 0 | H47: =D47*E47 | I47: 0 | J47: 0 | K47: =D47*I47
A48: 3 | B48: QL.43 | E48: =+E49+E50+E51 | F48: =+SUM(F49:F68) | G48: =+G49+G50+G51 | H48: =+SUM(H49:H67)
A49: - | B49: Sụt dương đất | C49: m3 | D49: =+D8 | E49: 0 | F49: 0 | G49: 0 | H49: =D49*E49 | I49: 0 | J49: 0 | K49: =D49*I49
A50: - | B50: Sụt dương đá | C50: m3 | D50: =+D9 | E50: 0 | F50: 0 | G50: 0 | H50: =D50*E50 | I50: 0 | J50: 0 | K50: =D50*I50
A51: - | B51: Sa bồi | C51: m3 | D51: =+D10 | E51: 0 | F51: 0 | G51: 0 | H51: =D51*E51 | I51: 0 | J51: 0 | K51: =D51*I51
A52: - | B52: Cây đổ | C52: Cây | D52: =+D11 | E52: 0 | F52: 0 | G52: 0 | H52: =D52*E52 | I52: 0 | J52: 0 | K52: =D52*I52
A53: - | B53: Sụt âm | C53: m | D53: =+D12 | E53: 0 | F53: 0 | G53: 0 | H53: =D53*E53 | I53: 0 | J53: 0 | K53: =D53*I53
A54: + | B54: Kè rọ thép | C54: rọ | D54: =+D13 | E54: 0 | F54: 0 | G54: 0 | H54: =D54*E54 | I54: 0 | J54: 0 | K54: =D54*I54
A55: + | B55: Bê tông xi măng | C55: m | D55: =+D14 | E55: 0 | F55: 0 | G55: 0 | H55: =D55*E55 | I55: 0 | J55: 0 | K55: =D55*I55
A56: - | B56: Xói lề đường | C56: m3 | D56: 500000 | E56: 0 | F56: 0 | G56: 0 | H56: =D56*E56 | I56: 0 | J56: 0 | K56: =D56*I56
A57: - | B57: Hư hỏng mặt đường | C57: m2 | D57: =+D16 | E57: 0 | F57: 0 | G57: 0 | H57: =D57*E57 | I57: 0 | J57: 0 | K57: =D57*I57
A58: - | B58: Lún, gẫy nền mặt đường | C58: m2 | D58: =+D17 | E58: 0 | F58: 0 | G58: 0 | H58: =D58*E58 | I58: 0 | J58: 0 | K58: =D58*I58
A59: - | B59: Rãnh dọc bị hư hỏng | C59: m | D59: =+D18 | E59: 0 | F59: 0 | G59: 0 | H59: =D59*E59 | I59: 0 | J59: 0 | K59: =D59*I59
A60: - | B60: Lề đường bị hư hỏng | C60: m | D60: =+D19 | E60: 0 | F60: 0 | G60: 0 | H60: =D60*E60 | I60: 0 | J60: 0 | K60: =D60*I60
A61: - | B61: Ngập nước | C61: m | D61: =+D20 | E61: 0 | F61: 0 | G61: 0 | H61: =D61*E61 | I61: 0 | J61: 0 | K61: =D61*I61
A62: - | B62: Biển báo | C62: cái | D62: =+D21 | E62: 0 | F62: 0 | G62: 0 | H62: =D62*E62 | I62: 0 | J62: 0 | K62: =D62*I62
A63: - | B63: Cọc tiêu, cột H, cột KM | C63: cột | D63: =+D22 | E63: 0 | F63: 0 | G63: 0 | H63: =D63*E63 | I63: 0 | J63: 0 | K63: =D63*I63
A64: - | B64: Hộ lan | C64: m | D64: =+D23 | E64: 0 | F64: 0 | G64: 0 | H64: =D64*E64 | I64: 0 | J64: 0 | K64: =D64*I64
A65: - | B65: Cống | C65: cái | D65: 700000000 | E65: 0 | F65: 0 | G65: 0 | H65: =D65*E65 | I65: 0 | J65: 0 | K65: =D65*I65
A66: - | B66: Cầu | C66: cái | D66: =+D25 | E66: 0 | F66: 0 | G66: 0 | H66: =D66*E66 | I66: 0 | J66: 0 | K66: =D66*I66
A67: - | B67: Công trình khác | C67: cái | E67: 0 | F67: 0 | G67: 0 | H67: =D67*E67 | I67: 0 | J67: 0 | K67: =D67*I67
A68: - | B68: Số vị trí tắc đường | C68: VT | D68: =+D27 | E68: 0 | F68: 0 | G68: 0 | H68: =D68*E68 | I68: 0 | J68: 0 | K68: =D68*I68
A69: 4 | B69: ĐT.111 | E69: =+E70+E71+E72 | F69: =+SUM(F70:F88) | G69: =+G70+G71+G72 | H69: =+SUM(H70:H88)
A70: - | B70: Sụt dương đất | C70: m3 | D70: =+D49 | E70: 0 | F70: 0 | G70: 0 | H70: =D70*E70 | I70: 0 | J70: 0 | K70: =D70*I70
A71: - | B71: Sụt dương đá | C71: m3 | D71: =+D50 | E71: 0 | F71: 0 | G71: 0 | H71: =D71*E71 | I71: 0 | J71: 0 | K71: =D71*I71
A72: - | B72: Sa bồi | C72: m3 | D72: =+D51 | E72: 0 | F72: 0 | G72: 0 | H72: =D72*E72 | I72: 0 | J72: 0 | K72: =D72*I72
A73: - | B73: Cây đổ | C73: Cây | D73: =+D52 | E73: 0 | F73: 0 | G73: 0 | H73: =D73*E73 | I73: 0 | J73: 0 | K73: =D73*I73
A74: - | B74: Sụt âm | C74: m | D74: =+D53 | E74: 0 | F74: 0 | G74: 0 | H74: =D74*E74 | I74: 0 | J74: 0 | K74: =D74*I74
A75: + | B75: Kè rọ thép | C75: rọ | D75: =+D54 | E75: 0 | F75: 0 | G75: 0 | H75: =D75*E75 | I75: 0 | J75: 0 | K75: =D75*I75
A76: + | B76: Bê tông xi măng | C76: m | D76: =+D55 | E76: 0 | F76: 0 | G76: 0 | H76: =D76*E76 | I76: 0 | J76: 0 | K76: =D76*I76
A77: - | B77: Xói lề đường | C77: m3 | D77: 500000 | E77: 0 | F77: 0 | G77: 0 | H77: =D77*E77 | I77: 0 | J77: 0 | K77: =D77*I77
A78: - | B78: Hư hỏng mặt đường | C78: m2 | D78: =+D57 | E78: 0 | F78: 0 | G78: 0 | H78: =D78*E78 | I78: 0 | J78: 0 | K78: =D78*I78
A79: - | B79: Lún, gẫy nền mặt đường | C79: m2 | D79: =+D58 | E79: 0 | F79: 0 | G79: 0 | H79: =D79*E79 | I79: 0 | J79: 0 | K79: =D79*I79
A80: - | B80: Rãnh dọc bị hư hỏng | C80: m | D80: =+D59 | E80: 0 | F80: 0 | G80: 0 | H80: =D80*E80 | I80: 0 | J80: 0 | K80: =D80*I80
A81: - | B81: Ngập nước | C81: m | D81: =+D60 | E81: 0 | F81: 0 | G81: 0 | H81: =D81*E81 | I81: 0 | J81: 0 | K81: =D81*I81
A82: - | B82: Biển báo | C82: cái | D82: =+D61 | E82: 0 | F82: 0 | G82: 0 | H82: =D82*E82 | I82: 0 | J82: 0 | K82: =D82*I82
A83: - | B83: Cọc tiêu, cột H, cột KM | C83: cột | D83: =+D62 | E83: 0 | F83: 0 | G83: 0 | H83: =D83*E83 | I83: 0 | J83: 0 | K83: =D83*I83
A84: - | B84: Hộ lan | C84: m | D84: =+D63 | E84: 0 | F84: 0 | G84: 0 | H84: =D84*E84 | I84: 0 | J84: 0 | K84: =D84*I84
A85: - | B85: Cống | C85: cái | D85: =+D64 | E85: 0 | F85: 0 | G85: 0 | H85: =D85*E85 | I85: 0 | J85: 0 | K85: =D85*I85
A86: - | B86: Cầu | C86: cái | D86: =+D65 | E86: 0 | F86: 0 | G86: 0 | H86: =D86*E86 | I86: 0 | J86: 0 | K86: =D86*I86
A87: - | B87: Công trình khác | C87: cái | D87: =+D66 | E87: 0 | F87: 0 | G87: 0 | H87: =D87*E87 | I87: 0 | J87: 0 | K87: =D87*I87
A88: - | B88: Số vị trí tắc đường | C88: VT | D88: =+D67 | E88: 0 | F88: 0 | G88: 0 | H88: =D88*E88 | I88: 0 | J88: 0 | K88: =D88*I88
A89: 5 | B89: ĐT.112 | E89: =+E90+E91+E92 | F89: =+SUM(F90:F108) | G89: =+G90+G91+G92 | H89: =+SUM(H90:H108)
A90: - | B90: Sụt dương đất | C90: m3 | D90: =+D70 | E90: 0 | F90: 0 | G90: 0 | H90: =D90*E90 | I90: 0 | J90: 0 | K90: =D90*I90
A91: - | B91: Sụt dương đá | C91: m3 | D91: =+D71 | E91: 0 | F91: 0 | G91: 0 | H91: =D91*E91 | I91: 0 | J91: 0 | K91: =D91*I91
A92: - | B92: Sa bồi | C92: m3 | D92: =+D72 | E92: 0 | F92: 0 | G92: 0 | H92: =D92*E92 | I92: 0 | J92: 0 | K92: =D92*I92
A93: - | B93: Cây đổ | C93: Cây | D93: =+D73 | E93: 0 | F93: 0 | G93: 0 | H93: =D93*E93 | I93: 0 | J93: 0 | K93: =D93*I93
A94: - | B94: Sụt âm | C94: m | D94: =+D74 | E94: 0 | F94: 0 | G94: 0 | H94: =D94*E94 | I94: 0 | J94: 0 | K94: =D94*I94
A95: + | B95: Kè rọ thép | C95: rọ | D95: =+D75 | E95: 0 | F95: 0 | G95: 0 | H95: =D95*E95 | I95: 0 | J95: 0 | K95: =D95*I95
A96: + | B96: Bê tông xi măng | C96: m | D96: =+D76 | E96: 0 | F96: 0 | G96: 0 | H96: =D96*E96 | I96: 0 | J96: 0 | K96: =D96*I96
A97: - | B97: Xói lề đường | C97: m3 | D97: 500000 | E97: 0 | F97: 0 | G97: 0 | H97: =D97*E97 | I97: 0 | J97: 0 | K97: =D97*I97
A98: - | B98: Hư hỏng mặt đường | C98: m2 | D98: =+D78 | E98: 0 | F98: 0 | G98: 0 | H98: =D98*E98 | I98: 0 | J98: 0 | K98: =D98*I98
A99: - | B99: Lún, gẫy nền mặt đường | C99: m2 | D99: =+D79 | E99: 0 | F99: 0 | G99: 0 | H99: =D99*E99 | I99: 0 | J99: 0 | K99: =D99*I99
A100: - | B100: Rãnh dọc bị hư hỏng | C100: m | D100: =+D80 | E100: 0 | F100: 0 | G100: 0 | H100: =D100*E100 | I100: 0 | J100: 0 | K100: =D100*I100
...

Sheet mẫu 2 TH thiet hai chinh
A1: Bảng kê kèm theo mẫu số 2 - Thông tư 72/205/TT-BXD
A2: TỔNG HỢP CÁC CHỈ TIÊU CHÍNH THIỆT HẠI DO THIÊN TAI GÂY RA TRÊN ĐỊA BÀN TỈNH SƠN LA
A3: (Thời gian: từ ngày 14/10/2026 đến ngày 14/10/2026)
A5: TT | B5: Mã | C5: Chỉ tiêu thiệt hại | D5: Đơn vị | E5: Tổng
E6: Số lượng | F6: Ước thiệt hại (triệu đồng) | I6: Sụt+ sa bồi | J6: Sụt âm | K6: Hư hỏng
C7: Thiệt hại về KCHT đường bộ
A8: A | C8: Đường quốc lộ | F8: =+SUM(F9:F13)
A9: 1 | C9: Chiều dài sạt lở, hư hỏng | D9: m | E9: =+'PL KL '!F132
A10: 2 | C10: Khối lượng đất đá, bê tông, nhựa đường các loại | D10: m3 | E10: =+'PL KL '!E132 | F10: ='PL KL '!H132/1000000 | I10: =+'PL KL '!G132 | J10: =+'PL KL '!G138 | K10: =+'PL KL '!G151
A11: 3 | C11: Cầu bị hư hỏng | D11: cái
A12: 4 | C12: Cống bị hư hỏng | D12: cái
A13: 5 | C13: Các thiệt hại khác | D13: triệu | F13: 0
A14: B | C14: Đường tỉnh | F14: =+SUM(F15:F19)
A15: 1 | C15: Chiều dài sạt lở, hư hỏng | D15: m | E15: =+'PL KL '!F133 | F15: ='PL KL '!I133/1000000
A16: 2 | C16: Khối lượng đất đá, bê tông, nhựa đường các loại | D16: m3 | E16: =+'PL KL '!E133 | F16: ='PL KL '!H133/1000000 | I16: =+'PL KL '!G133 | J16: =+'PL KL '!G156 | K16: =+'PL KL '!G169
A17: 3 | C17: Cầu bị hư hỏng | D17: cái
A18: 4 | C18: Cống bị hư hỏng | D18: cái | E18: ='PL KL '!E167 | F18: 0
A19: 5 | C19: Các thiệt hại khác | D19: triệu
C20: Tổng | F20: =+F8+F14
