Workbook

Sheet PL KL 
A1: Phụ lục 01
A2: TỔNG HỢP KHỐI LƯỢNG THIỆT HẠI VÀ ĐẢM BẢO GIAO THÔNG (TỪ …. ĐẾN …..)
A3: (Kèm báo cáo số:…..)
A4: TT | B4: Hạng mục | C4: ĐV | D4: Đơn giá (đ) | E4: Khối lượng thiệt hại | I4: Khối lượng đã ĐBGT | L4: Ghi chú
E5: Từ ngày 14/10/2026 đến ngày 14/10/2026 | I5: Từ ngày 14/10/2026 đến ngày 14/10/2026
E6: Khối lượng (m3) | F6: Chiều dài sạt lở, hư hỏng (md) | G6: Số vị trí | H6: Ước tính giá trị (trđ) | I6: Khối lượng | J6: Số vị trí | K6: Ước tính giá trị (trđ)
A7: 1 | B7: QL.37 | E7: =+E8+E9+E10 | F7: =+SUM(F8:F27) | G7: =+G8+G9+G10 | H7: =+SUM(H8:H26)
A8: - | B8: Sụt dương đất | C8: m3 | D8: 150000 | E8: 0 | F8: 0 | G8: 0 | H8: =D8*E8 | I8: 0 | J8: 0 | K8: =D8*I8
A9: - | B9: Sụt dương đá | C9: m3 | D9: 250000 | E9: 0 | F9: 0 | G9: 0 | H9: =D9*E9 | I9: 0 | J9: 0 | K9: =D9*I9
A10: - | B10: Sa bồi | C10: m3 | D10: 150000 | E10: 0 | F10: 0 | G10: 0 | H10: =D10*E10 | I10: 0 | J10: 0 | K10: =D10*I10
A11: - | B11: Cây đổ | C11: Cây | D11: 500000 | E11: 0 | F11: 0 | G11: 0 | H11: =D11*E11 | I11: 0 | J11: 0 | K11: =D11*I11
A12: - | B12: Sụt âm | C12: md | D12: 10000000 | E12: 0 | F12: 0 | G12: 0 | H12: =D12*E12 | I12: 0 | J12: 0 | K12: =D12*I12
A13: + | B13: Kè rọ thép | C13: rọ | E13: 0 | F13: 0 | G13: 0 | H13: =D13*E13 | I13: 0 | J13: 0 | K13: =D13*I13
A14: + | B14: Bê tông xi măng | C14: m | E14: 0 | F14: 0 | G14: 0 | H14: =D14*E14 | I14: 0 | J14: 0 | K14: =D14*I14
A15: - | B15: Xói lề đường | C15: m | D15: 250000 | E15: 0 | F15: 0 | G15: 0 | H15: =D15*E15 | I15: 0 | J15: 0 | K15: =D15*I15
A16: - | B16: Hư hỏng mặt đường | C16: m | E16: 0 | F16: 0 | G16: 0 | H16: =D16*E16 | I16: 0 | J16: 0 | K16: =D16*I16
A17: - | B17: Lún, gẫy nền mặt đường | C17: m | E17: 0 | F17: 0 | G17: 0 | H17: =D17*E17 | I17: 0 | J17: 0 | K17: =D17*I17
A18: - | B18: Rãnh dọc bị hư hỏng | C18: m | D18: 500000 | E18: 0 | F18: 0 | G18: 0 | H18: =D18*E18 | I18: 0 | J18: 0 | K18: =D18*I18
A19: - | B19: Lề đường bị hư hỏng | C19: m | D19: 500000 | E19: 0 | F19: 0 | G19: 0 | H19: =D19*E19 | I19: 0 | J19: 0 | K19: =D19*I19
A20: - | B20: Ngập nước | C20: m | E20: 0 | F20: 0 | G20: 0 | H20: =D20*E20 | I20: 0 | J20: 0 | K20: =D20*I20
A21: - | B21: Biển báo | C21: cái | E21: 0 | F21: 0 | G21: 0 | H21: =D21*E21 | I21: 0 | J21: 0 | K21: =D21*I21
A22: - | B22: Cọc tiêu, cột H, cột KM | C22: cột | E22: 0 | F22: 0 | G22: 0 | H22: =D22*E22 | I22: 0 | J22: 0 | K22: =D22*I22
A23: - | B23: Hộ lan | C23: m | E23: 0 | F23: 0 | G23: 0 | H23: =D23*E23 | I23: 0 | J23: 0 | K23: =D23*I23
A24: - | B24: Cống | C24: cái | E24: 0 | F24: 0 | G24: 0 | H24: =D24*E24 | I24: 0 | J24: 0 | K24: =D24*I24
A25: - | B25: Cầu | C25: cái | E25: 0 | F25: 0 | G25: 0 | H25: =D25*E25 | I25: 0 | J25: 0 | K25: =D25*I25
A26: - | B26: Công trình khác | C26: cái | D26: 200000000 | E26: 0 | F26: 0 | G26: 0 | H26: =D26*E26 | I26: 0 | J26: 0 | K26: =D26*I26
A27: - | B27: Số vị trí tắc đường | C27: VT | E27: 0 | F27: 0 | G27: 0 | H27: =D27*E27 | I27: 0 | J27: 0 | K27: =D27*I27
A28: 2 | B28: QL.32B | E28: =+E29+E30+E31 | F28: =+SUM(F29:F47) | G28: =+G29+G30+G31 | H28: =+SUM(H29:H47)
A29: - | B29: Sụt dương đất | C29: m3 | D29: =+D8 | E29: 0 | F29: 0 | G29: 0 | H29: =D29*E29 | I29: 0 | J29: 0 | K29: =D29*I29
A30: - | B30: Sụt dương đá | C30: m3 | D30: =+D9 | E30: 0 | F30: 0 | G30: 0 | H30: =D30*E30 | I30: 0 | J30: 0 | K30: =D30*I30
A31: - | B31: Sa bồi | C31: m3 | D31: =+D10 | E31: 0 | F31: 0 | G31: 0 | H31: =D31*E31 | I31: 0 | J31: 0 | K31: =D31*I31
A32: - | B32: Cây đổ | C32: Cây | D32: =+D11 | E32: 0 | F32: 0 | G32: 0 | H32: =D32*E32 | I32: 0 | J32: 0 | K32: =D32*I32
A33: - | B33: Sụt âm | C33: m | D33: =+D12 | E33: 0 | F33: 0 | G33: 0 | H33: =D33*E33 | I33: 0 | J33: 0 | K33: =D33*I33
A34: + | B34: Kè rọ thép | C34: rọ | D34: =+D13 | E34: 0 | F34: 0 | G34: 0 | H34: =D34*E34 | I34: 0 | J34: 0 | K34: =D34*I34
A35: + | B35: Bê tông xi măng | C35: m | D35: =+D14 | E35: 0 | F35: 0 | G35: 0 | H35: =D35*E35 | I35: 0 | J35: 0 | K35: =D35*I35
A36: - | B36: Xói lề đường | C36: m3 | D36: 500000 | E36: 0 | F36: 0 | G36: 0 | H36: =D36*E36 | I36: 0 | J36: 0 | K36: =D36*I36
A37: - | B37: Hư hỏng mặt đường | C37: m2 | D37: =+D16 | E37: 0 | F37: 0 | G37: 0 | H37: =D37*E37 | I37: 0 | J37: 0 | K37: =D37*I37
A38: - | B38: Lún, gẫy nền mặt đường | C38: m2 | D38: =+D17 | E38: 0 | F38: 0 | G38: 0 | H38: =D38*E38 | I38: 0 | J38: 0 | K38: =D38*I38
A39: - | B39: Rãnh dọc bị hư hỏng | C39: m | D39: =+D18 | E39: 0 | F39: 0 | G39: 0 | H39: =D39*E39 | I39: 0 | J39: 0 | K39: =D39*I39
A40: - | B40: Ngập nước | C40: m | D40: =+D19 | E40: 0 | F40: 0 | G40: 0 | H40: =D40*E40 | I40: 0 | J40: 0 | K40: =D40*I40
...

Sheet mẫu 2 TH thiet hai chinh
A1: Bảng kê kèm theo mẫu số 2 - Thông tư 72/205/TT-BXD
A2: TỔNG HỢP CÁC CHỈ TIÊU CHÍNH THIỆT HẠI DO THIÊN TAI GÂY RA TRÊN ĐỊA BÀN TỈNH SƠN LA
A3: (Thời gian: từ ngày 14/10/2026 đến ngày 14/10/2026)
A5: TT | B5: Mã | C5: Chỉ tiêu thiệt hại | D5: Đơn vị | E5: Tổng
E6: Số lượng | F6: Ước thiệt hại (triệu đồng) | I6: Sụt+ sa bồi | J6: Sụt âm | K6: Hư hỏng
C7: Thiệt hại về KCHT đường bộ
A8: A | C8: Đường quốc lộ | F8: =+SUM(F9:F13)
A9: 1 | C9: Chiều dài sạt lở, hư hỏng | D9: m | E9: =+'PL KL '!F132
A10: 2 | C10: Khối lượng đất đá, bê tông, nhựa đường các loại | D10: m3 | E10: =+'PL KL '!E132 | F10: ='PL KL '!H132/1000000 | I10: =+'PL KL '!G132 | J10: =+'PL KL '!G138 | K10: =+'PL KL '!G151
A11: 3 | C11: Cầu bị hư hỏng | D11: cái
A12: 4 | C12: Cống bị hư hỏng | D12: cái
A13: 5 | C13: Các thiệt hại khác | D13: triệu | F13: 0
A14: B | C14: Đường tỉnh | F14: =+SUM(F15:F19)
A15: 1 | C15: Chiều dài sạt lở, hư hỏng | D15: m | E15: =+'PL KL '!F133 | F15: ='PL KL '!I133/1000000
A16: 2 | C16: Khối lượng đất đá, bê tông, nhựa đường các loại | D16: m3 | E16: =+'PL KL '!E133 | F16: ='PL KL '!H133/1000000 | I16: =+'PL KL '!G133 | J16: =+'PL KL '!G156 | K16: =+'PL KL '!G169
A17: 3 | C17: Cầu bị hư hỏng | D17: cái
A18: 4 | C18: Cống bị hư hỏng | D18: cái | E18: ='PL KL '!E167 | F18: 0
A19: 5 | C19: Các thiệt hại khác | D19: triệu
C20: Tổng | F20: =+F8+F14
